BEGIN:VCALENDAR
VERSION:2.0
PRODID:-//Riverside Art Museum &amp; The Cheech - ECPv6.15.20//NONSGML v1.0//EN
CALSCALE:GREGORIAN
METHOD:PUBLISH
X-ORIGINAL-URL:https://riversideartmuseum.org
X-WR-CALDESC:Events for Riverside Art Museum &amp; The Cheech
REFRESH-INTERVAL;VALUE=DURATION:PT1H
X-Robots-Tag:noindex
X-PUBLISHED-TTL:PT1H
BEGIN:VTIMEZONE
TZID:America/Los_Angeles
BEGIN:DAYLIGHT
TZOFFSETFROM:-0800
TZOFFSETTO:-0700
TZNAME:PDT
DTSTART:20250309T100000
END:DAYLIGHT
BEGIN:STANDARD
TZOFFSETFROM:-0700
TZOFFSETTO:-0800
TZNAME:PST
DTSTART:20251102T090000
END:STANDARD
BEGIN:DAYLIGHT
TZOFFSETFROM:-0800
TZOFFSETTO:-0700
TZNAME:PDT
DTSTART:20260308T100000
END:DAYLIGHT
BEGIN:STANDARD
TZOFFSETFROM:-0700
TZOFFSETTO:-0800
TZNAME:PST
DTSTART:20261101T090000
END:STANDARD
BEGIN:DAYLIGHT
TZOFFSETFROM:-0800
TZOFFSETTO:-0700
TZNAME:PDT
DTSTART:20270314T100000
END:DAYLIGHT
BEGIN:STANDARD
TZOFFSETFROM:-0700
TZOFFSETTO:-0800
TZNAME:PST
DTSTART:20271107T090000
END:STANDARD
END:VTIMEZONE
BEGIN:VEVENT
DTSTART;TZID=America/Los_Angeles:20260321T090000
DTEND;TZID=America/Los_Angeles:20260512T170000
DTSTAMP:20260425T033332
CREATED:20260321T194559Z
LAST-MODIFIED:20260403T202456Z
UID:10001262-1774083600-1778605200@riversideartmuseum.org
SUMMARY:Early Bird Registration is now open!
DESCRIPTION:The Riverside Art Museum Summer Art Program begins June 1. \n\n\n\nThis summer’s program includes: \n\n\n\nWeekly art camps (Monday – Friday\, Camps are grouped by ages) \n\n\n\nSaturday Art Club (Ages 5 -12) \n\n\n\nNEW!! Exploring Together — Toddler & Adult Art Program
URL:https://riversideartmuseum.org/event/early-bird-registration-is-now-open/
LOCATION:Riverside Art Museum\, 3425 Mission Inn Avenue\, Riverside\, CA\, 92501\, United States
CATEGORIES:Riverside Art Museum
ATTACH;FMTTYPE=image/jpeg:https://riversideartmuseum.org/wp-content/uploads/2026/03/SUMMER-SRT-CAMP-REGISTRATION-IS-OPEN-1.jpg
END:VEVENT
BEGIN:VEVENT
DTSTART;TZID=America/Los_Angeles:20260425T183000
DTEND;TZID=America/Los_Angeles:20260425T220000
DTSTAMP:20260425T033332
CREATED:20260324T215118Z
LAST-MODIFIED:20260421T065252Z
UID:10001263-1777141800-1777154400@riversideartmuseum.org
SUMMARY:Comedy Night at The Cheech
DESCRIPTION:Doors will open to guests at 6:30 PM  \n\n\n\nComedy night will begin at 7 PM \n\n\n\nVIP Table Seating incl. 4 Tickets + Bottle of Wine + Preferred Table Seating$200*limited tables available*General Admission$30  \n\n\n\nBeer and wine will be available for purchase$10 per glass \n\n\n\n\n\nWe are thrilled to host:  \n\n\n\nChristian ZaragozaIG:  ChristianZComedyCat AlvaradoIG:  CatAlvaradoComedyRichard BarbaIG:  Comedian_Richard_BarbaNarcizo GonzálezIG:  ComicCizzoooNacho GonzálezIG:  YoSoyElNacho \n\n\n\n\n\n\n\n\nPurchase Tickets Here
URL:https://riversideartmuseum.org/event/comedy-club-at-the-cheech/
LOCATION:The Cheech Center for Chicano Art & Culture\, 3581 Mission Inn Ave\, Riverside\, California\, 92507\, United States
CATEGORIES:The Cheech
ATTACH;FMTTYPE=image/png:https://riversideartmuseum.org/wp-content/uploads/2026/03/comedy-night-flyer-1-scaled.png
END:VEVENT
END:VCALENDAR