BEGIN:VCALENDAR
VERSION:2.0
PRODID:-//Riverside Art Museum &amp; The Cheech - ECPv6.15.20//NONSGML v1.0//EN
CALSCALE:GREGORIAN
METHOD:PUBLISH
X-ORIGINAL-URL:https://riversideartmuseum.org
X-WR-CALDESC:Events for Riverside Art Museum &amp; The Cheech
REFRESH-INTERVAL;VALUE=DURATION:PT1H
X-Robots-Tag:noindex
X-PUBLISHED-TTL:PT1H
BEGIN:VTIMEZONE
TZID:America/Los_Angeles
BEGIN:DAYLIGHT
TZOFFSETFROM:-0800
TZOFFSETTO:-0700
TZNAME:PDT
DTSTART:20250309T100000
END:DAYLIGHT
BEGIN:STANDARD
TZOFFSETFROM:-0700
TZOFFSETTO:-0800
TZNAME:PST
DTSTART:20251102T090000
END:STANDARD
BEGIN:DAYLIGHT
TZOFFSETFROM:-0800
TZOFFSETTO:-0700
TZNAME:PDT
DTSTART:20260308T100000
END:DAYLIGHT
BEGIN:STANDARD
TZOFFSETFROM:-0700
TZOFFSETTO:-0800
TZNAME:PST
DTSTART:20261101T090000
END:STANDARD
BEGIN:DAYLIGHT
TZOFFSETFROM:-0800
TZOFFSETTO:-0700
TZNAME:PDT
DTSTART:20270314T100000
END:DAYLIGHT
BEGIN:STANDARD
TZOFFSETFROM:-0700
TZOFFSETTO:-0800
TZNAME:PST
DTSTART:20271107T090000
END:STANDARD
END:VTIMEZONE
BEGIN:VEVENT
DTSTART;TZID=America/Los_Angeles:20260318T180000
DTEND;TZID=America/Los_Angeles:20260318T200000
DTSTAMP:20260420T022151
CREATED:20260313T224721Z
LAST-MODIFIED:20260313T224734Z
UID:10001257-1773856800-1773864000@riversideartmuseum.org
SUMMARY:What is the Budget for Fun? Workshop with Richie Velasquez
DESCRIPTION:What it takes to build an independent streaming platform to promote your artwork \n\n\n\nThis two-hour workshop hosted by Richie Velasquez @deladeso teaches attendees how to build their creative brand and mobile streaming platform to market themselves and/or their artwork.  \n\n\n\nUsing Más Fun TV as the blueprint\, Richie will walk attendees through the process of designing branding assets\, creating a mobile streaming app\, and building a set to create content for his platform.  \n\n\n\nA panel discussion/brainstorm session will follow\, during which attendees can ask Richie questions and contribute their own creative advice.  \n\n\n\nThe workshop concludes with a hands-on segment during which filmmakers/content creators can use the Más Fun TV set to film their own interviews. 
URL:https://riversideartmuseum.org/event/what-is-the-budget-for-fun-workshop-with-richie-velasquez/
LOCATION:The Cheech Center for Chicano Art & Culture\, 3581 Mission Inn Ave\, Riverside\, California\, 92507\, United States
CATEGORIES:The Cheech
ATTACH;FMTTYPE=image/png:https://riversideartmuseum.org/wp-content/uploads/2026/03/Whats-the-budget-for-fun-image.png
END:VEVENT
END:VCALENDAR