BEGIN:VCALENDAR
VERSION:2.0
PRODID:-//Riverside Art Museum &amp; The Cheech - ECPv6.15.20//NONSGML v1.0//EN
CALSCALE:GREGORIAN
METHOD:PUBLISH
X-WR-CALNAME:Riverside Art Museum &amp; The Cheech
X-ORIGINAL-URL:https://riversideartmuseum.org
X-WR-CALDESC:Events for Riverside Art Museum &amp; The Cheech
REFRESH-INTERVAL;VALUE=DURATION:PT1H
X-Robots-Tag:noindex
X-PUBLISHED-TTL:PT1H
BEGIN:VTIMEZONE
TZID:America/Los_Angeles
BEGIN:DAYLIGHT
TZOFFSETFROM:-0800
TZOFFSETTO:-0700
TZNAME:PDT
DTSTART:20240310T100000
END:DAYLIGHT
BEGIN:STANDARD
TZOFFSETFROM:-0700
TZOFFSETTO:-0800
TZNAME:PST
DTSTART:20241103T090000
END:STANDARD
BEGIN:DAYLIGHT
TZOFFSETFROM:-0800
TZOFFSETTO:-0700
TZNAME:PDT
DTSTART:20250309T100000
END:DAYLIGHT
BEGIN:STANDARD
TZOFFSETFROM:-0700
TZOFFSETTO:-0800
TZNAME:PST
DTSTART:20251102T090000
END:STANDARD
BEGIN:DAYLIGHT
TZOFFSETFROM:-0800
TZOFFSETTO:-0700
TZNAME:PDT
DTSTART:20260308T100000
END:DAYLIGHT
BEGIN:STANDARD
TZOFFSETFROM:-0700
TZOFFSETTO:-0800
TZNAME:PST
DTSTART:20261101T090000
END:STANDARD
END:VTIMEZONE
BEGIN:VEVENT
DTSTART;TZID=America/Los_Angeles:20250424T140000
DTEND;TZID=America/Los_Angeles:20250512T170000
DTSTAMP:20260424T020024
CREATED:20250424T180940Z
LAST-MODIFIED:20250424T181417Z
UID:10001104-1745503200-1747069200@riversideartmuseum.org
SUMMARY:Early bird registration is open!
DESCRIPTION:Register today for summer art classes and camps to receive early bird\, preferred pricing.  \n\n\n\nMembers receive preferred pricing on art classes\, workshops and camps.  \n\n\n\nLearn more about memberships here.
URL:https://riversideartmuseum.org/event/early-bird-registration-is-open/
LOCATION:Riverside Art Museum\, 3425 Mission Inn Avenue\, Riverside\, CA\, 92501\, United States
CATEGORIES:Riverside Art Museum
ATTACH;FMTTYPE=image/jpeg:https://riversideartmuseum.org/wp-content/uploads/2025/04/RAM-43-scaled.jpg
END:VEVENT
BEGIN:VEVENT
DTSTART;TZID=America/Los_Angeles:20250504T120000
DTEND;TZID=America/Los_Angeles:20250504T170000
DTSTAMP:20260424T020024
CREATED:20250204T045114Z
LAST-MODIFIED:20250213T214854Z
UID:10001012-1746360000-1746378000@riversideartmuseum.org
SUMMARY:Free Admission - First Sunday of every month\, in collaboration with RAC
DESCRIPTION:In collaboration with the Riverside Arts Council\, First Sundays is a series of free programs at various downtown Riverside locations. Featuring activities for all-ages\, the event takes place every first Sunday of the month from 1 to 4 p.m. \n\n\n\nAs part of Free Sundays\, Riverside Art Museum (Julia Morgan Building) and The Cheech Marin Center for Chicano Art & Culture are both free and open to the public from 12 to 5 p.m. No tickets are necessary. \n\n\n\nPresenting Sponsor:
URL:https://riversideartmuseum.org/event/free-admission-first-sunday-of-every-month-in-collaboration-with-rac-4/
LOCATION:Riverside Art Museum + The Cheech Marin Center for Chicano Art & Culture\, 3425 Mission Inn Avenue\, Riverside\, California
CATEGORIES:Riverside Art Museum,The Cheech
ATTACH;FMTTYPE=image/jpeg:https://riversideartmuseum.org/wp-content/uploads/2024/07/RAM-044.jpg
END:VEVENT
BEGIN:VEVENT
DTSTART;TZID=America/Los_Angeles:20250504T133000
DTEND;TZID=America/Los_Angeles:20250504T143000
DTSTAMP:20260424T020024
CREATED:20250421T222723Z
LAST-MODIFIED:20250421T223046Z
UID:10001103-1746365400-1746369000@riversideartmuseum.org
SUMMARY:Puppets a la Carte at RAM
DESCRIPTION:First Sundays at RAM “Flutter with Butterflies!” Join Nicole Cloeren and Puppets a la Carte for a butterfly story\, then learn a simple movement piece with butterfly puppets. This puppet play date is FREE at Riverside Art Museum\, 3425 Mission Inn Ave\, Riverside. 1:30 PM in the Atrium.
URL:https://riversideartmuseum.org/event/puppets-a-la-carte-at-ram/
LOCATION:Riverside Art Museum\, 3425 Mission Inn Avenue\, Riverside\, CA\, 92501\, United States
CATEGORIES:Riverside Art Museum
ATTACH;FMTTYPE=image/jpeg:https://riversideartmuseum.org/wp-content/uploads/2025/04/May-First-Sundays-PUPPETS-1084-x-550-px.jpg
END:VEVENT
END:VCALENDAR