BEGIN:VCALENDAR
VERSION:2.0
PRODID:-//Riverside Art Museum &amp; The Cheech - ECPv6.15.20//NONSGML v1.0//EN
CALSCALE:GREGORIAN
METHOD:PUBLISH
X-WR-CALNAME:Riverside Art Museum &amp; The Cheech
X-ORIGINAL-URL:https://riversideartmuseum.org
X-WR-CALDESC:Events for Riverside Art Museum &amp; The Cheech
REFRESH-INTERVAL;VALUE=DURATION:PT1H
X-Robots-Tag:noindex
X-PUBLISHED-TTL:PT1H
BEGIN:VTIMEZONE
TZID:America/Los_Angeles
BEGIN:DAYLIGHT
TZOFFSETFROM:-0800
TZOFFSETTO:-0700
TZNAME:PDT
DTSTART:20240310T100000
END:DAYLIGHT
BEGIN:STANDARD
TZOFFSETFROM:-0700
TZOFFSETTO:-0800
TZNAME:PST
DTSTART:20241103T090000
END:STANDARD
BEGIN:DAYLIGHT
TZOFFSETFROM:-0800
TZOFFSETTO:-0700
TZNAME:PDT
DTSTART:20250309T100000
END:DAYLIGHT
BEGIN:STANDARD
TZOFFSETFROM:-0700
TZOFFSETTO:-0800
TZNAME:PST
DTSTART:20251102T090000
END:STANDARD
BEGIN:DAYLIGHT
TZOFFSETFROM:-0800
TZOFFSETTO:-0700
TZNAME:PDT
DTSTART:20260308T100000
END:DAYLIGHT
BEGIN:STANDARD
TZOFFSETFROM:-0700
TZOFFSETTO:-0800
TZNAME:PST
DTSTART:20261101T090000
END:STANDARD
END:VTIMEZONE
BEGIN:VEVENT
DTSTART;TZID=America/Los_Angeles:20250302T010000
DTEND;TZID=America/Los_Angeles:20250302T160000
DTSTAMP:20260425T033906
CREATED:20250212T185529Z
LAST-MODIFIED:20250225T213106Z
UID:10001080-1740877200-1740931200@riversideartmuseum.org
SUMMARY:First Sunday at RAM
DESCRIPTION:Join UCR Gluck Fellows in the Sebler Classroom as they present Playful Frogs\, a fun art activity! Amphibians will emerge from hibernation when the weather starts to warm up\, around early Spring. In this activity\, we will make playful frogs from paper towels and paint and help them make their first jumps into the first days of March!  \n\n\n\n\n\n\n\n\n\nVisit Bako Balloon and Paint for free face painting and balloon art figures! Balloon twisting from 1pm-2:30pm and face painting from 2:30pm-4pm. Find them on Instagram! @bakoballoonandpaint
URL:https://riversideartmuseum.org/event/first-sunday-at-ram-2/
LOCATION:Riverside Art Museum\, 3425 Mission Inn Avenue\, Riverside\, CA\, 92501\, United States
CATEGORIES:Riverside Art Museum
ATTACH;FMTTYPE=image/jpeg:https://riversideartmuseum.org/wp-content/uploads/2025/02/RAM-82-scaled-e1739386514567.jpg
END:VEVENT
BEGIN:VEVENT
DTSTART;TZID=America/Los_Angeles:20250302T120000
DTEND;TZID=America/Los_Angeles:20250302T170000
DTSTAMP:20260425T033906
CREATED:20250204T045016Z
LAST-MODIFIED:20250213T214701Z
UID:10001010-1740916800-1740934800@riversideartmuseum.org
SUMMARY:Free Admission - First Sunday of every month\, in collaboration with RAC
DESCRIPTION:In collaboration with the Riverside Arts Council\, First Sundays is a series of free programs at various downtown Riverside locations. Featuring activities for all-ages\, the event takes place every first Sunday of the month from 1 to 4 p.m. \n\n\n\nAs part of Free Sundays\, Riverside Art Museum (Julia Morgan Building) and The Cheech Marin Center for Chicano Art & Culture are both free and open to the public from 12 to 5 p.m. No tickets are necessary. \n\n\n\nPresenting Sponsor:
URL:https://riversideartmuseum.org/event/free-admission-first-sunday-of-every-month-in-collaboration-with-rac-2/
LOCATION:Riverside Art Museum + The Cheech Marin Center for Chicano Art & Culture\, 3425 Mission Inn Avenue\, Riverside\, California
CATEGORIES:Riverside Art Museum,The Cheech
ATTACH;FMTTYPE=image/jpeg:https://riversideartmuseum.org/wp-content/uploads/2024/07/RAM-044.jpg
END:VEVENT
BEGIN:VEVENT
DTSTART;TZID=America/Los_Angeles:20250302T133000
DTEND;TZID=America/Los_Angeles:20250302T143000
DTSTAMP:20260425T033906
CREATED:20250225T212807Z
LAST-MODIFIED:20250225T212815Z
UID:10001085-1740922200-1740925800@riversideartmuseum.org
SUMMARY:Glide with Swallows!
DESCRIPTION:Puppets a la Carte presents: “Glide with Swallows!” Play with the story of the migration of the Swallows at San Juan Capistrano. This puppet play date uses small bells\, paper for nest building\, and balls and scarves as swallows. It references: “Song of the Swallows” by Leo Politi and the song “La Golondrina”  by Sonia de los Santos. Find them on Instagram! @inlandia_institute and @puppetsalacarte
URL:https://riversideartmuseum.org/event/glide-with-swallows/
LOCATION:Riverside Art Museum\, 3425 Mission Inn Avenue\, Riverside\, CA\, 92501\, United States
CATEGORIES:Riverside Art Museum
ATTACH;FMTTYPE=image/jpeg:https://riversideartmuseum.org/wp-content/uploads/2025/02/March-First-Sundays-PUPPETS_FB_R1.jpg
END:VEVENT
END:VCALENDAR