BEGIN:VCALENDAR
VERSION:2.0
PRODID:-//Riverside Art Museum &amp; The Cheech - ECPv6.15.20//NONSGML v1.0//EN
CALSCALE:GREGORIAN
METHOD:PUBLISH
X-WR-CALNAME:Riverside Art Museum &amp; The Cheech
X-ORIGINAL-URL:https://riversideartmuseum.org
X-WR-CALDESC:Events for Riverside Art Museum &amp; The Cheech
REFRESH-INTERVAL;VALUE=DURATION:PT1H
X-Robots-Tag:noindex
X-PUBLISHED-TTL:PT1H
BEGIN:VTIMEZONE
TZID:America/Los_Angeles
BEGIN:DAYLIGHT
TZOFFSETFROM:-0800
TZOFFSETTO:-0700
TZNAME:PDT
DTSTART:20230312T100000
END:DAYLIGHT
BEGIN:STANDARD
TZOFFSETFROM:-0700
TZOFFSETTO:-0800
TZNAME:PST
DTSTART:20231105T090000
END:STANDARD
BEGIN:DAYLIGHT
TZOFFSETFROM:-0800
TZOFFSETTO:-0700
TZNAME:PDT
DTSTART:20240310T100000
END:DAYLIGHT
BEGIN:STANDARD
TZOFFSETFROM:-0700
TZOFFSETTO:-0800
TZNAME:PST
DTSTART:20241103T090000
END:STANDARD
BEGIN:DAYLIGHT
TZOFFSETFROM:-0800
TZOFFSETTO:-0700
TZNAME:PDT
DTSTART:20250309T100000
END:DAYLIGHT
BEGIN:STANDARD
TZOFFSETFROM:-0700
TZOFFSETTO:-0800
TZNAME:PST
DTSTART:20251102T090000
END:STANDARD
END:VTIMEZONE
BEGIN:VEVENT
DTSTART;TZID=America/Los_Angeles:20240905T190000
DTEND;TZID=America/Los_Angeles:20240905T200000
DTSTAMP:20260419T063348
CREATED:20240807T180822Z
LAST-MODIFIED:20240830T175054Z
UID:10000789-1725562800-1725566400@riversideartmuseum.org
SUMMARY:Influence of Julia Morgan on Contemporary Women Architects
DESCRIPTION:Explore Julia Morgan’s enduring impact on contemporary women architects at an engaging panel discussion at the Riverside Art Museum. This conversation will delve into Morgan’s architectural legacy\, highlighting how her pioneering work continues to inspire new generations of diverse architecture professionals through her creativity\, resilience\, and groundbreaking achievements. All are welcome to join this event celebrating Morgan’s influential contributions to the field. \n\n\n\n\n\n\n\n\n\n\n\nPanelists \n\n\n\nModerated by Mary Anne Akers\, Dean\, Cal Poly Pomona College of Environmental Design \n\n\n\nAndrea Ruelas\, Assoc. AIA\, LEED AP; Senior Project Manager\, HMC Architects \n\n\n\nAmy Karn\, AIA\, NCARB\, CDT; Senior Project Architect\, HMC Architects \n\n\n\nKatherine Kaford\, Ph.D; Assoc. Dean\, Cal Baptist University College of Architecture\, Visual Arts + Design \n\n\n\nTessy Lopez\, Assoc. AIA; Job Captain\, HMC Architects \n\n\n\nThis is a free\, family-friendly event held during Arts Walk. Light refreshments will be provided. The panel will take place in the 3425 Mission Inn Exhibition. \n\n\n\n\nJoin us via ZOOM!
URL:https://riversideartmuseum.org/event/free-event-influence-of-julia-morgan-on-contemporary-female-architects/
LOCATION:Riverside Art Museum\, 3425 Mission Inn Avenue\, Riverside\, CA\, 92501\, United States
CATEGORIES:Riverside Art Museum
ATTACH;FMTTYPE=image/png:https://riversideartmuseum.org/wp-content/uploads/2024/08/3425-Mission-Inn-Ave-5-e1723221106298.png
END:VEVENT
BEGIN:VEVENT
DTSTART;TZID=America/Los_Angeles:20240905T190000
DTEND;TZID=America/Los_Angeles:20240905T203000
DTSTAMP:20260419T063348
CREATED:20240807T185911Z
LAST-MODIFIED:20240819T163322Z
UID:10000790-1725562800-1725568200@riversideartmuseum.org
SUMMARY:Palabra at The Cheech
DESCRIPTION:Palabra at The Cheech is a new series that celebrates the wonderful tradition of floricanto\, poesía\, and the spoken word. Join us for our first open mic poetry series co-hosted by Donato Martinez\, featuring poets Iuri M. Lara\, James Coats\, Oscar Velazquez\, and David A. Romero. Doors open at 6pm. \n\n\n\nSchedule of Events6PM: Sign-Ups begin7PM: Featured Poets8PM: Open Mic \n\n\n\n\n\n\n\n\n\n\n\n\n\nHosted By\n\n\n\nDonato Martinez was born in small pueblo\, Garcia de la Cadena\, Zacatecas\, Mexico and immigrated to USA at six years old. He teaches English composition\, Literature\, and Creative Writing at Santa Ana College. He has also taught classes in Chicano Studies. He has also been a co-coordinator of the Puente Program for 25 years and has presented workshop sessions at both the regional and state level. He has also spoken at many motivational and educational conferences. He hosts and curates many artistic events that feature poetry and music at his campus or in the community. He is also a poet and writes about his barrio upbringing\, his community\, his culture\, and his Chicano identity. He has a self-published collection with three other Inland Empire poets\, Tacos de Lengua. His full length collection of poetry\, Touch the Sky\, was published in 2023 by El Martillo Press. He loves the outdoors and is inspired by music and books and other artistic expressions\, and his children\, Gabriel and Abigail. He was recently recognized as the Distinguished Faculty of the Year at Santa Ana College in 2024. Find Donato on Instagram. \n\n\n\n\n\n\n\n\n\n\n\n\n\n\n\nFeatured Poets\n\n\n\n\n\n\n\n\n\n\n\n\n\nJames Coats is an author\, poet\, and educator born in Los Angeles and raised in the Inland Empire. He believes that poetry has the ability to bring diverse groups together\, offering a way to connect through shared challenges\, achievements and experiences. His newest poetry collection Midnight & Mad Dreams is published by World Stage Press. You can find him attending poetry readings throughout California. Find James on Instagram and Youtube. \n\n\n\n\n\n\n\n\n\n\n\n\n\n\n\nDavid A. Romero is a Mexican-American spoken word artist from Diamond Bar\, CA. He is the co-founder and editor-in-chief of El Martillo Press. Romero is the author of My Name Is Romero (FlowerSong Press\, 2020)\, Diamond Bars 2 (Moon Tide Press\, 2024) and Diamond Bars: The Street Version (Dimlights Publishing\, 2010). Romero has received honorariums from nearly a hundred colleges and universities in thirty-four different states in the USA and has also performed live in Mexico\, Italy\, and France. Romero’s work has been published in literary magazines in the United States\, Mexico\, England\, Scotland\, Canada\, and Hungary. Romero has opened for Latin Grammy winning bands Ozomatli and La Santa Cecilia. Romero’s work has been published in anthologies alongside poets laureate Joy Harjo\, Lawrence Ferlinghetti\, Luis J. Rodriguez\, Jack Hirschman\, and Tongo Eisen-Martin. Romero has won the Uptown Slam at the historic Green Mill in Chicago; the birthplace of slam poetry. Find David on Instagram and Youtube. \n\n\n\n\n\n\n\n\n\n\n\n\n\nIuri M. Lara is a Xicana-Indigena mother\, Mexica dancer\, and Ethnic Studies-English Language Arts curriculum designer from Santa Ana\, CA. She holds an M.F.A. in Poetry from the University of California in Riverside. Her poetry has appeared in various publications including The American Poetry Review\, The Academic Journal for MALCS\, Mujeres de Maize Zine\, and Open Doors Poetry Anthology\, among others. She has published two chapbooks including “Xicanx Affirmations” published by Libromobile in 2018. Find Iuri on Instagram.  \n\n\n\n\n\n\n\n\n\n\n\nOscar Velazquez is an Anaheim-based poet whose work draws inspiration from his troubled past\, his journey through addiction and into sobriety\, his dreams of the future\, and his keen eye on the world around him. He has performed at notable venues\, including Boca De Oro Santa Ana’s Literary Fest and the MUZEO Museum and Cultural Center in Anaheim. His poetry has been published by the city of Anaheim in the “Anaheim Poetry Review\,” an anthology celebrating local voices. Through his unique performance style\, he unveils a transformative journey from a world of adversity to one of artistic expression. He writes raw and uncensored\, but always with mucho corazón. Find Oscar on Instagram.
URL:https://riversideartmuseum.org/event/palabra-at-the-cheech/
LOCATION:Cheech Marin Center\, 3581 Mission Inn Ave\, Riverside\, California\, 92507\, United States
CATEGORIES:The Cheech
ATTACH;FMTTYPE=image/jpeg:https://riversideartmuseum.org/wp-content/uploads/2024/08/POET-015-1-scaled-e1723057137135.jpg
END:VEVENT
END:VCALENDAR